BEGIN:VCALENDAR
VERSION:2.0
PRODID:-//jEvents 2.0 for Joomla//EN
CALSCALE:GREGORIAN
METHOD:PUBLISH
BEGIN:VTIMEZONE
TZID:America/New_York
BEGIN:STANDARD
DTSTART:20201101T010000
RDATE:20210314T030000
TZOFFSETFROM:-0400
TZOFFSETTO:-0500
TZNAME:America/New_York EST
END:STANDARD
BEGIN:STANDARD
DTSTART:20211107T010000
RDATE:20220313T030000
TZOFFSETFROM:-0400
TZOFFSETTO:-0500
TZNAME:America/New_York EST
END:STANDARD
BEGIN:STANDARD
DTSTART:20221106T010000
RDATE:20230312T030000
TZOFFSETFROM:-0400
TZOFFSETTO:-0500
TZNAME:America/New_York EST
END:STANDARD
BEGIN:STANDARD
DTSTART:20231105T010000
RDATE:20240310T030000
TZOFFSETFROM:-0400
TZOFFSETTO:-0500
TZNAME:America/New_York EST
END:STANDARD
BEGIN:STANDARD
DTSTART:20241103T010000
RDATE:20250309T030000
TZOFFSETFROM:-0400
TZOFFSETTO:-0500
TZNAME:America/New_York EST
END:STANDARD
BEGIN:STANDARD
DTSTART:20251102T010000
RDATE:20260308T030000
TZOFFSETFROM:-0400
TZOFFSETTO:-0500
TZNAME:America/New_York EST
END:STANDARD
BEGIN:STANDARD
DTSTART:20261101T010000
RDATE:20270314T030000
TZOFFSETFROM:-0400
TZOFFSETTO:-0500
TZNAME:America/New_York EST
END:STANDARD
BEGIN:STANDARD
DTSTART:20271107T010000
RDATE:20280312T030000
TZOFFSETFROM:-0400
TZOFFSETTO:-0500
TZNAME:America/New_York EST
END:STANDARD
BEGIN:STANDARD
DTSTART:20281105T010000
RDATE:20290311T030000
TZOFFSETFROM:-0400
TZOFFSETTO:-0500
TZNAME:America/New_York EST
END:STANDARD
BEGIN:STANDARD
DTSTART:20291104T010000
RDATE:20300310T030000
TZOFFSETFROM:-0400
TZOFFSETTO:-0500
TZNAME:America/New_York EST
END:STANDARD
BEGIN:STANDARD
DTSTART:20301103T010000
RDATE:20310309T030000
TZOFFSETFROM:-0400
TZOFFSETTO:-0500
TZNAME:America/New_York EST
END:STANDARD
BEGIN:STANDARD
DTSTART:20311102T010000
RDATE:20320314T030000
TZOFFSETFROM:-0400
TZOFFSETTO:-0500
TZNAME:America/New_York EST
END:STANDARD
BEGIN:DAYLIGHT
DTSTART:20200730T090000
RDATE:20201101T010000
TZOFFSETFROM:-0500
TZOFFSETTO:-0400
TZNAME:America/New_York EDT
END:DAYLIGHT
BEGIN:DAYLIGHT
DTSTART:20210314T030000
RDATE:20211107T010000
TZOFFSETFROM:-0500
TZOFFSETTO:-0400
TZNAME:America/New_York EDT
END:DAYLIGHT
BEGIN:DAYLIGHT
DTSTART:20220313T030000
RDATE:20221106T010000
TZOFFSETFROM:-0500
TZOFFSETTO:-0400
TZNAME:America/New_York EDT
END:DAYLIGHT
BEGIN:DAYLIGHT
DTSTART:20230312T030000
RDATE:20231105T010000
TZOFFSETFROM:-0500
TZOFFSETTO:-0400
TZNAME:America/New_York EDT
END:DAYLIGHT
BEGIN:DAYLIGHT
DTSTART:20240310T030000
RDATE:20241103T010000
TZOFFSETFROM:-0500
TZOFFSETTO:-0400
TZNAME:America/New_York EDT
END:DAYLIGHT
BEGIN:DAYLIGHT
DTSTART:20250309T030000
RDATE:20251102T010000
TZOFFSETFROM:-0500
TZOFFSETTO:-0400
TZNAME:America/New_York EDT
END:DAYLIGHT
BEGIN:DAYLIGHT
DTSTART:20260308T030000
RDATE:20261101T010000
TZOFFSETFROM:-0500
TZOFFSETTO:-0400
TZNAME:America/New_York EDT
END:DAYLIGHT
BEGIN:DAYLIGHT
DTSTART:20270314T030000
RDATE:20271107T010000
TZOFFSETFROM:-0500
TZOFFSETTO:-0400
TZNAME:America/New_York EDT
END:DAYLIGHT
BEGIN:DAYLIGHT
DTSTART:20280312T030000
RDATE:20281105T010000
TZOFFSETFROM:-0500
TZOFFSETTO:-0400
TZNAME:America/New_York EDT
END:DAYLIGHT
BEGIN:DAYLIGHT
DTSTART:20290311T030000
RDATE:20291104T010000
TZOFFSETFROM:-0500
TZOFFSETTO:-0400
TZNAME:America/New_York EDT
END:DAYLIGHT
BEGIN:DAYLIGHT
DTSTART:20300310T030000
RDATE:20301103T010000
TZOFFSETFROM:-0500
TZOFFSETTO:-0400
TZNAME:America/New_York EDT
END:DAYLIGHT
BEGIN:DAYLIGHT
DTSTART:20310309T030000
RDATE:20311102T010000
TZOFFSETFROM:-0500
TZOFFSETTO:-0400
TZNAME:America/New_York EDT
END:DAYLIGHT
END:VTIMEZONE
BEGIN:VEVENT
UID:4ff6acf622de7e294f72d880c358e4d6
CATEGORIES:Club Events
CREATED:20210421T160138
SUMMARY:Work Detail
LOCATION:East Fork Sportsmen Club
DESCRIPTION:The Southern Potter Snowmobile Club has scheduled a work detail for this da
 te. If you are available and would like to help the club with projects such
  as bridge repair/replacement, brush clearing, drainage pipe repair/replace
 ment, or anything else that is needed please stop by the East Fork Sportsme
 n Club before 9:00 AM to find out what is going on this day. There will be 
 a small meeting at 9:00 AM to make sure everybody is on the same track for 
 the day and will disburse from there.\nIf you have any questions email This
  email address is being protected from spambots. You need JavaScript enable
 d to view it.
				document.getElementById('cloak2813fa5c25e2d8e164754f82b40
 fbd44').innerHTML = '';
				var prefix = '&#109;a' + 'i&#108;' + '&#116;o';
 
				var path = 'hr' + 'ef' + '=';
				var addy2813fa5c25e2d8e164754f82b40f
 bd44 = 'm&#97;tt' + '&#64;';
				addy2813fa5c25e2d8e164754f82b40fbd44 = add
 y2813fa5c25e2d8e164754f82b40fbd44 + 's&#111;&#117;th&#101;rnp&#111;tt&#101;
 rsn&#111;wm&#111;b&#105;l&#101;cl&#117;b' + '&#46;' + '&#111;rg';
				var a
 ddy_text2813fa5c25e2d8e164754f82b40fbd44 = 'm&#97;tt' + '&#64;' + 's&#111;&
 #117;th&#101;rnp&#111;tt&#101;rsn&#111;wm&#111;b&#105;l&#101;cl&#117;b' + '
 &#46;' + '&#111;rg';document.getElementById('cloak2813fa5c25e2d8e164754f82b
 40fbd44').innerHTML += '<a ' + path + '\'' + prefix + ':' + addy2813fa5c25e
 2d8e164754f82b40fbd44 + '\'>'+addy_text2813fa5c25e2d8e164754f82b40fbd44+'';
 
		 or call John Greeley (pres) @ 570-494-8835\nAs always your time is just
  as precious to us as any monetary donation and greatly appreciated.\nWork 
 details are scheduled for the last 2 Saturdays of June, July, August, and S
 eptember. If you can't make this one there's another one coming up!\n
X-ALT-DESC;FMTTYPE=text/html:<p>The Southern Potter Snowmobile Club has scheduled a work detail for this
  date. If you are available and would like to help the club with projects s
 uch as bridge repair/replacement, brush clearing, drainage pipe repair/repl
 acement, or anything else that is needed please stop by the East Fork Sport
 smen Club before 9:00 AM to find out what is going on this day. There will 
 be a small meeting at 9:00 AM to make sure everybody is on the same track f
 or the day and will disburse from there.</p><p>If you have any questions em
 ail <span id="cloak2813fa5c25e2d8e164754f82b40fbd44">This email address is 
 being protected from spambots. You need JavaScript enabled to view it.</spa
 n><script type='text/javascript'>
				document.getElementById('cloak2813fa5
 c25e2d8e164754f82b40fbd44').innerHTML = '';
				var prefix = '&#109;a' + 'i
 &#108;' + '&#116;o';
				var path = 'hr' + 'ef' + '=';
				var addy2813fa5c
 25e2d8e164754f82b40fbd44 = 'm&#97;tt' + '&#64;';
				addy2813fa5c25e2d8e164
 754f82b40fbd44 = addy2813fa5c25e2d8e164754f82b40fbd44 + 's&#111;&#117;th&#1
 01;rnp&#111;tt&#101;rsn&#111;wm&#111;b&#105;l&#101;cl&#117;b' + '&#46;' + '
 &#111;rg';
				var addy_text2813fa5c25e2d8e164754f82b40fbd44 = 'm&#97;tt' +
  '&#64;' + 's&#111;&#117;th&#101;rnp&#111;tt&#101;rsn&#111;wm&#111;b&#105;l
 &#101;cl&#117;b' + '&#46;' + '&#111;rg';document.getElementById('cloak2813f
 a5c25e2d8e164754f82b40fbd44').innerHTML += '<a ' + path + '\'' + prefix + '
 :' + addy2813fa5c25e2d8e164754f82b40fbd44 + '\'>'+addy_text2813fa5c25e2d8e1
 64754f82b40fbd44+'<\/a>';
		</script> or call John Greeley (pres) @ 570-494
 -8835</p><p>As always your time is just as precious to us as any monetary d
 onation and greatly appreciated.</p><p>Work details are scheduled for the l
 ast 2 Saturdays of June, July, August, and September. If you can't make thi
 s one there's another one coming up!</p>
CONTACT:John Greeley 570-494-8835
DTSTAMP:20260421T224237
DTSTART;TZID=America/New_York:20210731T090000
SEQUENCE:0
TRANSP:OPAQUE
END:VEVENT
END:VCALENDAR